Package: M3Drop Version: 1.35.0 Command: /home/biocbuild/bbs-3.22-bioc/R/bin/R CMD INSTALL M3Drop StartedAt: 2025-10-24 16:05:20 -0400 (Fri, 24 Oct 2025) EndedAt: 2025-10-24 16:05:37 -0400 (Fri, 24 Oct 2025) EllapsedTime: 16.4 seconds RetCode: 0 Status: OK