Package: M3C Version: 1.31.0 Command: /home/biocbuild/bbs-3.22-bioc/R/bin/R CMD INSTALL M3C StartedAt: 2025-10-28 15:10:43 -0400 (Tue, 28 Oct 2025) EndedAt: 2025-10-28 15:10:58 -0400 (Tue, 28 Oct 2025) EllapsedTime: 14.9 seconds RetCode: 0 Status: OK