Package: M3C Version: 1.32.0 Command: /home/biocbuild/bbs-3.22-bioc/R/bin/R CMD check --install=check:M3C.install-out.txt --library=/home/biocbuild/bbs-3.22-bioc/R/site-library --timings M3C_1.32.0.tar.gz StartedAt: 2025-11-01 01:08:13 -0400 (Sat, 01 Nov 2025) EndedAt: 2025-11-01 01:10:12 -0400 (Sat, 01 Nov 2025) EllapsedTime: 119.2 seconds RetCode: 0 Status: OK CheckDir: M3C.Rcheck Warnings: 0