Package: M3C Version: 1.31.0 Command: /Library/Frameworks/R.framework/Resources/bin/R CMD INSTALL M3C StartedAt: 2025-10-27 15:06:07 -0400 (Mon, 27 Oct 2025) EndedAt: 2025-10-27 15:06:14 -0400 (Mon, 27 Oct 2025) EllapsedTime: 6.3 seconds RetCode: 0 Status: OK