Package: M3C Version: 1.31.0 Command: /Library/Frameworks/R.framework/Resources/bin/R CMD build --keep-empty-dirs --no-resave-data M3C StartedAt: 2025-10-27 16:51:27 -0400 (Mon, 27 Oct 2025) EndedAt: 2025-10-27 16:51:50 -0400 (Mon, 27 Oct 2025) EllapsedTime: 22.3 seconds RetCode: 0 Status: OK PackageFile: M3C_1.31.0.tar.gz PackageFileSize: 589.4 KiB