Package: LymphoSeq Version: 1.37.0 Command: /home/biocbuild/bbs-3.22-bioc/R/bin/R CMD build --keep-empty-dirs --no-resave-data --md5 LymphoSeq StartedAt: 2025-10-24 18:34:04 -0400 (Fri, 24 Oct 2025) EndedAt: 2025-10-24 18:35:08 -0400 (Fri, 24 Oct 2025) EllapsedTime: 64.1 seconds RetCode: 0 Status: OK PackageFile: LymphoSeq_1.37.0.tar.gz PackageFileSize: 2.241 MiB