Package: LymphoSeq Version: 1.38.0 Command: /Library/Frameworks/R.framework/Resources/bin/R CMD INSTALL LymphoSeq StartedAt: 2025-11-03 15:15:25 -0500 (Mon, 03 Nov 2025) EndedAt: 2025-11-03 15:15:32 -0500 (Mon, 03 Nov 2025) EllapsedTime: 7.5 seconds RetCode: 0 Status: OK