Package: LymphoSeq Version: 1.38.0 Command: rm -rf LymphoSeq.buildbin-libdir && mkdir LymphoSeq.buildbin-libdir && /Users/biocbuild/BBS/utils/build-universal.sh LymphoSeq_1.38.0.tar.gz /Library/Frameworks/R.framework/Resources/bin/R LymphoSeq.buildbin-libdir StartedAt: 2025-10-31 23:12:12 -0400 (Fri, 31 Oct 2025) EndedAt: 2025-10-31 23:12:22 -0400 (Fri, 31 Oct 2025) EllapsedTime: 9.2 seconds RetCode: 0 Status: OK PackageFile: LymphoSeq_1.38.0.tgz PackageFileSize: 2.495 MiB