Package: LiquidAssociation Version: 1.63.0 Command: /home/biocbuild/bbs-3.22-bioc/R/bin/R CMD build --keep-empty-dirs --no-resave-data --md5 LiquidAssociation StartedAt: 2025-10-24 18:33:00 -0400 (Fri, 24 Oct 2025) EndedAt: 2025-10-24 18:33:28 -0400 (Fri, 24 Oct 2025) EllapsedTime: 28.0 seconds RetCode: 0 Status: OK PackageFile: LiquidAssociation_1.63.0.tar.gz PackageFileSize: 286.4 KiB