Package: Linnorm Version: 2.33.0 Command: /home/biocbuild/bbs-3.22-bioc/R/bin/R CMD build --keep-empty-dirs --no-resave-data --md5 Linnorm StartedAt: 2025-10-27 18:22:51 -0400 (Mon, 27 Oct 2025) EndedAt: 2025-10-27 18:26:42 -0400 (Mon, 27 Oct 2025) EllapsedTime: 231.3 seconds RetCode: 0 Status: OK PackageFile: Linnorm_2.33.0.tar.gz PackageFileSize: 4.11 MiB