Package: LinTInd Version: 1.13.1 Command: /home/biocbuild/bbs-3.22-bioc/R/bin/R CMD build --keep-empty-dirs --no-resave-data --md5 LinTInd StartedAt: 2025-10-24 18:32:34 -0400 (Fri, 24 Oct 2025) EndedAt: 2025-10-24 18:33:00 -0400 (Fri, 24 Oct 2025) EllapsedTime: 26.0 seconds RetCode: 1 Status: ERROR PackageFile: None PackageFileSize: NA