Package: LinTInd Version: 1.14.0 Command: /Library/Frameworks/R.framework/Resources/bin/R CMD INSTALL LinTInd StartedAt: 2025-11-03 15:45:55 -0500 (Mon, 03 Nov 2025) EndedAt: 2025-11-03 15:46:20 -0500 (Mon, 03 Nov 2025) EllapsedTime: 24.9 seconds RetCode: 0 Status: OK