Package: LinTInd Version: 1.13.1 Command: /Library/Frameworks/R.framework/Resources/bin/R CMD INSTALL LinTInd StartedAt: 2025-10-24 15:29:41 -0400 (Fri, 24 Oct 2025) EndedAt: 2025-10-24 15:29:48 -0400 (Fri, 24 Oct 2025) EllapsedTime: 7.3 seconds RetCode: 0 Status: OK