Package: LimROTS Version: 1.1.4 Command: /home/biocbuild/bbs-3.22-bioc/R/bin/R CMD INSTALL LimROTS StartedAt: 2025-10-27 15:55:59 -0400 (Mon, 27 Oct 2025) EndedAt: 2025-10-27 15:56:23 -0400 (Mon, 27 Oct 2025) EllapsedTime: 24.8 seconds RetCode: 0 Status: OK