Package: LimROTS Version: 1.1.4 Command: /home/biocbuild/bbs-3.22-bioc/R/bin/R CMD build --keep-empty-dirs --no-resave-data --md5 LimROTS StartedAt: 2025-10-27 18:22:31 -0400 (Mon, 27 Oct 2025) EndedAt: 2025-10-27 18:23:46 -0400 (Mon, 27 Oct 2025) EllapsedTime: 75.1 seconds RetCode: 0 Status: OK PackageFile: LimROTS_1.1.4.tar.gz PackageFileSize: 765.3 KiB