Package: Lheuristic Version: 1.1.0 Command: /home/biocbuild/bbs-3.22-bioc/R/bin/R CMD INSTALL Lheuristic StartedAt: 2025-10-24 15:34:48 -0400 (Fri, 24 Oct 2025) EndedAt: 2025-10-24 15:35:15 -0400 (Fri, 24 Oct 2025) EllapsedTime: 27.0 seconds RetCode: 0 Status: OK