Package: LedPred Version: 1.43.0 Command: /home/biocbuild/bbs-3.22-bioc/R/bin/R CMD build --keep-empty-dirs --no-resave-data --md5 LedPred StartedAt: 2025-10-24 18:31:13 -0400 (Fri, 24 Oct 2025) EndedAt: 2025-10-24 18:31:31 -0400 (Fri, 24 Oct 2025) EllapsedTime: 18.0 seconds RetCode: 0 Status: OK PackageFile: LedPred_1.43.0.tar.gz PackageFileSize: 1.467 MiB