Package: LedPred Version: 1.44.0 Command: /Library/Frameworks/R.framework/Resources/bin/R CMD INSTALL LedPred StartedAt: 2025-11-03 15:17:18 -0500 (Mon, 03 Nov 2025) EndedAt: 2025-11-03 15:17:50 -0500 (Mon, 03 Nov 2025) EllapsedTime: 31.9 seconds RetCode: 0 Status: OK