Package: LedPred Version: 1.44.0 Command: rm -rf LedPred.buildbin-libdir && mkdir LedPred.buildbin-libdir && /Users/biocbuild/BBS/utils/build-universal.sh LedPred_1.44.0.tar.gz /Library/Frameworks/R.framework/Resources/bin/R LedPred.buildbin-libdir StartedAt: 2025-11-04 01:47:00 -0500 (Tue, 04 Nov 2025) EndedAt: 2025-11-04 01:47:24 -0500 (Tue, 04 Nov 2025) EllapsedTime: 24.2 seconds RetCode: 0 Status: OK PackageFile: LedPred_1.44.0.tgz PackageFileSize: 1.69 MiB