Package: LedPred Version: 1.43.0 Command: rm -rf LedPred.buildbin-libdir && mkdir LedPred.buildbin-libdir && /Users/biocbuild/BBS/utils/build-universal.sh LedPred_1.43.0.tar.gz /Library/Frameworks/R.framework/Resources/bin/R LedPred.buildbin-libdir StartedAt: 2025-10-24 23:07:43 -0400 (Fri, 24 Oct 2025) EndedAt: 2025-10-24 23:07:51 -0400 (Fri, 24 Oct 2025) EllapsedTime: 8.2 seconds RetCode: 0 Status: OK PackageFile: LedPred_1.43.0.tgz PackageFileSize: 1.691 MiB