Package: LRcell Version: 1.18.0 Command: /Library/Frameworks/R.framework/Resources/bin/R CMD INSTALL LRcell StartedAt: 2025-11-03 15:38:37 -0500 (Mon, 03 Nov 2025) EndedAt: 2025-11-03 15:39:01 -0500 (Mon, 03 Nov 2025) EllapsedTime: 24.5 seconds RetCode: 0 Status: OK