Package: LRcell Version: 1.18.0 Command: /Library/Frameworks/R.framework/Resources/bin/R CMD build --keep-empty-dirs --no-resave-data LRcell StartedAt: 2025-11-02 17:37:39 -0500 (Sun, 02 Nov 2025) EndedAt: 2025-11-02 17:39:01 -0500 (Sun, 02 Nov 2025) EllapsedTime: 82.1 seconds RetCode: 0 Status: OK PackageFile: LRcell_1.18.0.tar.gz PackageFileSize: 1.036 MiB