Package: LRcell Version: 1.18.0 Command: rm -rf LRcell.buildbin-libdir && mkdir LRcell.buildbin-libdir && /Users/biocbuild/BBS/utils/build-universal.sh LRcell_1.18.0.tar.gz /Library/Frameworks/R.framework/Resources/bin/R LRcell.buildbin-libdir StartedAt: 2025-11-04 01:47:35 -0500 (Tue, 04 Nov 2025) EndedAt: 2025-11-04 01:48:02 -0500 (Tue, 04 Nov 2025) EllapsedTime: 26.9 seconds RetCode: 0 Status: OK PackageFile: LRcell_1.18.0.tgz PackageFileSize: 1.072 MiB