Package: LRcell Version: 1.17.0 Command: /Library/Frameworks/R.framework/Resources/bin/R CMD build --keep-empty-dirs --no-resave-data LRcell StartedAt: 2025-10-24 16:53:25 -0400 (Fri, 24 Oct 2025) EndedAt: 2025-10-24 16:53:53 -0400 (Fri, 24 Oct 2025) EllapsedTime: 28.3 seconds RetCode: 0 Status: OK PackageFile: LRcell_1.17.0.tar.gz PackageFileSize: 1.037 MiB