Package: LRcell Version: 1.18.0 Maintainer: Wenjing Ma MaintainerEmail: wenjing.ma at emory.edu git_url: https://git.bioconductor.org/packages/LRcell git_branch: RELEASE_3_22 git_last_commit: de409ff git_last_commit_date: 2025-10-29 11:07:47 -0400 (Wed, 29 Oct 2025)