Package: LRBaseDbi Version: 2.19.1 Command: /home/biocbuild/bbs-3.22-bioc/R/bin/R CMD INSTALL LRBaseDbi StartedAt: 2025-10-24 16:08:34 -0400 (Fri, 24 Oct 2025) EndedAt: 2025-10-24 16:08:46 -0400 (Fri, 24 Oct 2025) EllapsedTime: 12.2 seconds RetCode: 0 Status: OK