Package: LRBaseDbi Version: 2.19.1 Command: /home/biocbuild/bbs-3.22-bioc/R/bin/R CMD build --keep-empty-dirs --no-resave-data --md5 LRBaseDbi StartedAt: 2025-10-24 18:33:47 -0400 (Fri, 24 Oct 2025) EndedAt: 2025-10-24 18:34:11 -0400 (Fri, 24 Oct 2025) EllapsedTime: 24.0 seconds RetCode: 0 Status: OK PackageFile: LRBaseDbi_2.19.1.tar.gz PackageFileSize: 146.1 KiB