Package: LRBaseDbi Version: 2.19.1 Command: /Library/Frameworks/R.framework/Resources/bin/R CMD INSTALL LRBaseDbi StartedAt: 2025-10-24 15:57:21 -0400 (Fri, 24 Oct 2025) EndedAt: 2025-10-24 15:57:38 -0400 (Fri, 24 Oct 2025) EllapsedTime: 17.5 seconds RetCode: 0 Status: OK