Package: LRBaseDbi Version: 2.19.1 Command: /Library/Frameworks/R.framework/Resources/bin/R CMD build --keep-empty-dirs --no-resave-data LRBaseDbi StartedAt: 2025-10-24 17:37:41 -0400 (Fri, 24 Oct 2025) EndedAt: 2025-10-24 17:38:21 -0400 (Fri, 24 Oct 2025) EllapsedTime: 40.1 seconds RetCode: 0 Status: OK PackageFile: LRBaseDbi_2.19.1.tar.gz PackageFileSize: 145.6 KiB