Package: LRBaseDbi Version: 2.19.1 Command: /Library/Frameworks/R.framework/Resources/bin/R CMD INSTALL LRBaseDbi StartedAt: 2025-10-26 15:31:15 -0400 (Sun, 26 Oct 2025) EndedAt: 2025-10-26 15:31:20 -0400 (Sun, 26 Oct 2025) EllapsedTime: 5.1 seconds RetCode: 0 Status: OK