Package: LOBSTAHS Version: 1.35.1 Command: /home/biocbuild/bbs-3.22-bioc/R/bin/R CMD INSTALL LOBSTAHS StartedAt: 2025-10-24 15:56:54 -0400 (Fri, 24 Oct 2025) EndedAt: 2025-10-24 15:57:40 -0400 (Fri, 24 Oct 2025) EllapsedTime: 46.0 seconds RetCode: 0 Status: OK