Package: LOBSTAHS Version: 1.36.0 Command: /Library/Frameworks/R.framework/Resources/bin/R CMD INSTALL LOBSTAHS StartedAt: 2025-11-10 15:24:48 -0500 (Mon, 10 Nov 2025) EndedAt: 2025-11-10 15:25:09 -0500 (Mon, 10 Nov 2025) EllapsedTime: 20.7 seconds RetCode: 0 Status: OK