Package: LOBSTAHS Version: 1.36.0 Command: /Library/Frameworks/R.framework/Resources/bin/R CMD build --keep-empty-dirs --no-resave-data LOBSTAHS StartedAt: 2025-11-10 16:51:36 -0500 (Mon, 10 Nov 2025) EndedAt: 2025-11-10 16:52:05 -0500 (Mon, 10 Nov 2025) EllapsedTime: 29.4 seconds RetCode: 0 Status: OK PackageFile: LOBSTAHS_1.36.0.tar.gz PackageFileSize: 2.903 MiB