Package: LOBSTAHS Version: 1.36.0 Command: rm -rf LOBSTAHS.buildbin-libdir && mkdir LOBSTAHS.buildbin-libdir && /Users/biocbuild/BBS/utils/build-universal.sh LOBSTAHS_1.36.0.tar.gz /Library/Frameworks/R.framework/Resources/bin/R LOBSTAHS.buildbin-libdir StartedAt: 2025-11-10 23:25:07 -0500 (Mon, 10 Nov 2025) EndedAt: 2025-11-10 23:25:29 -0500 (Mon, 10 Nov 2025) EllapsedTime: 21.5 seconds RetCode: 0 Status: OK PackageFile: LOBSTAHS_1.36.0.tgz PackageFileSize: 1.999 MiB