Package: LEA Version: 3.21.0 Command: /home/biocbuild/bbs-3.22-bioc/R/bin/R CMD build --keep-empty-dirs --no-resave-data --md5 LEA StartedAt: 2025-10-24 18:31:10 -0400 (Fri, 24 Oct 2025) EndedAt: 2025-10-24 18:32:43 -0400 (Fri, 24 Oct 2025) EllapsedTime: 93.1 seconds RetCode: 0 Status: OK PackageFile: LEA_3.21.0.tar.gz PackageFileSize: 748 KiB