Package: LEA Version: 3.22.0 Command: /Library/Frameworks/R.framework/Resources/bin/R CMD build --keep-empty-dirs --no-resave-data LEA StartedAt: 2025-10-31 16:53:53 -0400 (Fri, 31 Oct 2025) EndedAt: 2025-10-31 16:54:38 -0400 (Fri, 31 Oct 2025) EllapsedTime: 45.5 seconds RetCode: 0 Status: OK PackageFile: LEA_3.22.0.tar.gz PackageFileSize: 740.4 KiB