Package: LBE Version: 1.77.0 Command: /home/biocbuild/bbs-3.22-bioc/R/bin/R CMD INSTALL LBE StartedAt: 2025-10-24 15:13:24 -0400 (Fri, 24 Oct 2025) EndedAt: 2025-10-24 15:13:45 -0400 (Fri, 24 Oct 2025) EllapsedTime: 20.7 seconds RetCode: 0 Status: OK