Package: LBE Version: 1.77.0 Command: /home/biocbuild/bbs-3.22-bioc/R/bin/R CMD build --keep-empty-dirs --no-resave-data --md5 LBE StartedAt: 2025-10-24 18:31:07 -0400 (Fri, 24 Oct 2025) EndedAt: 2025-10-24 18:31:13 -0400 (Fri, 24 Oct 2025) EllapsedTime: 6.0 seconds RetCode: 0 Status: OK PackageFile: LBE_1.77.0.tar.gz PackageFileSize: 784.9 KiB