Package: LACE Version: 2.13.1 Command: /home/biocbuild/bbs-3.22-bioc/R/bin/R CMD INSTALL LACE StartedAt: 2025-10-24 15:37:09 -0400 (Fri, 24 Oct 2025) EndedAt: 2025-10-24 15:37:43 -0400 (Fri, 24 Oct 2025) EllapsedTime: 33.3 seconds RetCode: 0 Status: OK