Package: LACE Version: 2.14.0 Command: /Library/Frameworks/R.framework/Resources/bin/R CMD INSTALL LACE StartedAt: 2025-11-10 15:12:35 -0500 (Mon, 10 Nov 2025) EndedAt: 2025-11-10 15:12:49 -0500 (Mon, 10 Nov 2025) EllapsedTime: 13.8 seconds RetCode: 0 Status: OK