Package: KnowSeq Version: 1.23.0 Command: /home/biocbuild/bbs-3.22-bioc/R/bin/R CMD INSTALL KnowSeq StartedAt: 2025-10-24 15:39:26 -0400 (Fri, 24 Oct 2025) EndedAt: 2025-10-24 15:39:57 -0400 (Fri, 24 Oct 2025) EllapsedTime: 30.4 seconds RetCode: 0 Status: OK