Package: KnowSeq Version: 1.23.0 Command: /home/biocbuild/bbs-3.22-bioc/R/bin/R CMD check --install=check:KnowSeq.install-out.txt --library=/home/biocbuild/bbs-3.22-bioc/R/site-library --timings KnowSeq_1.23.0.tar.gz StartedAt: 2025-10-25 00:57:59 -0400 (Sat, 25 Oct 2025) EndedAt: 2025-10-25 01:05:03 -0400 (Sat, 25 Oct 2025) EllapsedTime: 424.6 seconds RetCode: 0 Status: OK CheckDir: KnowSeq.Rcheck Warnings: 0