Package: KnowSeq Version: 1.23.0 Command: /Library/Frameworks/R.framework/Resources/bin/R CMD INSTALL KnowSeq StartedAt: 2025-10-24 15:35:29 -0400 (Fri, 24 Oct 2025) EndedAt: 2025-10-24 15:36:12 -0400 (Fri, 24 Oct 2025) EllapsedTime: 42.3 seconds RetCode: 0 Status: OK