Package: KnowSeq Version: 1.23.0 Command: /Library/Frameworks/R.framework/Resources/bin/R CMD build --keep-empty-dirs --no-resave-data KnowSeq StartedAt: 2025-10-24 17:35:26 -0400 (Fri, 24 Oct 2025) EndedAt: 2025-10-24 17:38:18 -0400 (Fri, 24 Oct 2025) EllapsedTime: 171.6 seconds RetCode: 0 Status: OK PackageFile: KnowSeq_1.23.0.tar.gz PackageFileSize: 8.261 MiB