Package: KnowSeq Version: 1.23.0 Command: rm -rf KnowSeq.buildbin-libdir && mkdir KnowSeq.buildbin-libdir && /Users/biocbuild/BBS/utils/build-universal.sh KnowSeq_1.23.0.tar.gz /Library/Frameworks/R.framework/Resources/bin/R KnowSeq.buildbin-libdir StartedAt: 2025-10-25 01:46:54 -0400 (Sat, 25 Oct 2025) EndedAt: 2025-10-25 01:47:40 -0400 (Sat, 25 Oct 2025) EllapsedTime: 46.5 seconds RetCode: 0 Status: OK PackageFile: KnowSeq_1.23.0.tgz PackageFileSize: 6.593 MiB