Package: KinSwingR Version: 1.28.0 Command: /home/biocbuild/bbs-3.22-bioc/R/bin/R CMD check --install=check:KinSwingR.install-out.txt --library=/home/biocbuild/bbs-3.22-bioc/R/site-library --timings KinSwingR_1.28.0.tar.gz StartedAt: 2025-11-15 01:01:44 -0500 (Sat, 15 Nov 2025) EndedAt: 2025-11-15 01:03:31 -0500 (Sat, 15 Nov 2025) EllapsedTime: 107.2 seconds RetCode: 0 Status: OK CheckDir: KinSwingR.Rcheck Warnings: 0