Package: KinSwingR Version: 1.28.0 Command: /Library/Frameworks/R.framework/Resources/bin/R CMD INSTALL KinSwingR StartedAt: 2025-10-31 15:17:18 -0400 (Fri, 31 Oct 2025) EndedAt: 2025-10-31 15:18:15 -0400 (Fri, 31 Oct 2025) EllapsedTime: 57.6 seconds RetCode: 0 Status: OK