Package: KinSwingR Version: 1.28.0 Command: /Library/Frameworks/R.framework/Resources/bin/R CMD build --keep-empty-dirs --no-resave-data KinSwingR StartedAt: 2025-10-31 17:35:51 -0400 (Fri, 31 Oct 2025) EndedAt: 2025-10-31 17:36:27 -0400 (Fri, 31 Oct 2025) EllapsedTime: 36.6 seconds RetCode: 0 Status: OK PackageFile: KinSwingR_1.28.0.tar.gz PackageFileSize: 649.7 KiB