Package: KinSwingR Version: 1.28.0 Command: rm -rf KinSwingR.buildbin-libdir && mkdir KinSwingR.buildbin-libdir && /Users/biocbuild/BBS/utils/build-universal.sh KinSwingR_1.28.0.tar.gz /Library/Frameworks/R.framework/Resources/bin/R KinSwingR.buildbin-libdir StartedAt: 2025-11-01 01:40:40 -0400 (Sat, 01 Nov 2025) EndedAt: 2025-11-01 01:40:49 -0400 (Sat, 01 Nov 2025) EllapsedTime: 8.1 seconds RetCode: 0 Status: OK PackageFile: KinSwingR_1.28.0.tgz PackageFileSize: 695.3 KiB