Package: KinSwingR Version: 1.27.0 Command: /Library/Frameworks/R.framework/Resources/bin/R CMD INSTALL KinSwingR StartedAt: 2025-10-26 15:03:25 -0400 (Sun, 26 Oct 2025) EndedAt: 2025-10-26 15:03:30 -0400 (Sun, 26 Oct 2025) EllapsedTime: 5.0 seconds RetCode: 0 Status: OK